BEGIN:VCALENDAR
VERSION:2.0
PRODID:-//eventon.com NONSGML v1.0//EN
BEGIN:VEVENT
UID:69e88fb1a5871
DTSTAMP:20260422T110657
DTSTART:20240513T133000Z
DTEND:20240513T150000Z
TZID:Europe/Berlin
LOCATION:Kleine Sporthalle der Ernst-Reuter-Schule Dresdner Straße 7\,  64823 Groß-Umstadt\,  Deutschland
SUMMARY:Kinderturnen: Rope Skipping Anfängertraining
DESCRIPTION: Trainer & Ansprechpartner Susanne Wallisch E-Mail: kinderturnen@tv1878.de
URL:https://tv1878.de/events/kinderturnen-rope-skipping-anfaengertraining/var/ri-93.l-L1
END:VEVENT
END:VCALENDAR