BEGIN:VCALENDAR
VERSION:2.0
PRODID:-//eventon.com NONSGML v1.0//EN
BEGIN:VEVENT
UID:69e774c09ba1a
DTSTAMP:20260421T145944
DTSTART:20210623T170000Z
DTEND:20210623T181500Z
TZID:Europe/Berlin
LOCATION:Pfälzer Schloss Groß-Umstadt Pfälzer Gasse 16\,  64823 Groß-Umstadt\,  Deutschland
SUMMARY:Gymnastik: Power Yoga
DESCRIPTION: Trainer & Ansprechpartner Cora Sitte E-Mail: gymnastik@tv1878.de &nbsp;
URL:https://tv1878.de/events/gymnastik-power-yoga-2/var/ri-1.l-L1
END:VEVENT
END:VCALENDAR